BEGIN:VCALENDAR
VERSION:2.0
PRODID:-//Fenway String Quartet • Boston Wedding Musicians - ECPv6.15.20//NONSGML v1.0//EN
CALSCALE:GREGORIAN
METHOD:PUBLISH
X-ORIGINAL-URL:https://www.fenwayquartet.com
X-WR-CALDESC:Events for Fenway String Quartet • Boston Wedding Musicians
REFRESH-INTERVAL;VALUE=DURATION:PT1H
X-Robots-Tag:noindex
X-PUBLISHED-TTL:PT1H
BEGIN:VTIMEZONE
TZID:UTC
BEGIN:STANDARD
TZOFFSETFROM:+0000
TZOFFSETTO:+0000
TZNAME:UTC
DTSTART:20250101T000000
END:STANDARD
END:VTIMEZONE
BEGIN:VEVENT
DTSTART;TZID=UTC:20260412T190000
DTEND;TZID=UTC:20260412T200000
DTSTAMP:20260423T210623
CREATED:20260407T150415Z
LAST-MODIFIED:20260407T150415Z
UID:1672-1776020400-1776024000@www.fenwayquartet.com
SUMMARY:Candlelight: Tribute to Ed Sheeran
DESCRIPTION:⭐   Candlelight  concerts bring the magic of a live\, multi-sensory musical experience to awe-inspiring locations like never seen before in Boston. Get your tickets now to discover the music of Ed Sheeran at The Maso Studio At the Huntington Theatre under the gentle glow of candlelight.   \n  General Info\n📍 Venue: The Maso Studio At the Huntington Theatre\n📅 Dates and times: select your dates/times directly in the ticket selector\n⏳ Duration: 60 minutes. Doors open 60 minutes before the show. No entry once it starts\n👤 Age requirement: 8 years old or older. Anyone under the age of 16 must be accompanied by an adult\n♿ Accessibility: this venue is ADA compliant\n❓ View the FAQs for this event  here\n🪑 Seating is assigned on a first come first served basis in each zone\n🕯️ If you would like to book a private concert or buy regular tickets for a large group (+30 people)\, click  here\n🎻 Check out all the  Candlelight concerts  in Boston\n🎁 To treat your friends and family to a Candlelight gift card\, click  here   \n  Tentative Program   \n	 Bad Habits\n	 Perfect\n	 Lego House\n	 Galway Girl\n	 Thinking Out Loud\n	 Happier\n	 The A Team\n	 Beautiful People (feat. Khalid)\n	 Eyes Closed\n	 Castle on the Hill\n	 Photograph\n	 Shivers\n	 Shape of You  \n Performers   \n	 String Quartet – Listeso – Boston  \n  Seating Map   \nProgram\n\nBad Habits\nPerfect\nLego House\nGalway Girl\nThinking Out Loud\nHappier\nThe A Team\nBeautiful People (feat. Khalid)\nEyes Closed\nCastle on the Hill\nPhotograph\nShivers\nShape of You\n\nEvent Details\n\nVenue: The Maso Studio At the Huntington Theatre\nCity: Boston\nShowtimes: 9:00p\nPerformers: String Quartet – Listeso – Boston\nTickets: From $49\n\nBuy Tickets  |  Get a Quote
URL:https://www.fenwayquartet.com/concert/candlelight-tribute-to-ed-sheeran/
LOCATION:The Maso Studio At the Huntington Theatre\, Boston\, US
END:VEVENT
BEGIN:VEVENT
DTSTART;TZID=UTC:20260416T190000
DTEND;TZID=UTC:20260416T200000
DTSTAMP:20260423T210623
CREATED:20260407T150403Z
LAST-MODIFIED:20260407T150403Z
UID:1673-1776366000-1776369600@www.fenwayquartet.com
SUMMARY:Candlelight: Tribute to Bad Bunny
DESCRIPTION:⭐   Candlelight    concerts bring the magic of a live\, multi-sensory musical experience to awe-inspiring locations like never seen before in Boston. Get your tickets now to discover the music of Bad Bunny at Temple Ohabei Shalom under the gentle glow of candlelight.    General Info   📍 Venue: Temple Ohabei Shalom  📅 Dates and times: select your dates/times directly in the ticket selector  ⏳ Duration: 60 minutes. Doors open 45 minutes before the show. No entry once it starts.  👤 Age requirement: 8 years old or older. Anyone under the age of 16 must be accompanied by an adult  ♿ Accessibility: this venue is ADA compliant  ❓ View the FAQs for this event  here   🪑 Seating is assigned on a first come first served basis in each zone  🕯️ If you would like to book a private concert or buy regular tickets for a large group (+30 people)\, click  here   🎻 Check out all the  Candlelight concerts  in Boston  🎁 To treat your friends and family to a Candlelight gift card\, click  here    Tentative Program    NUEVAYol  Si Estuviésemos Juntos  La Canción  La Noche de Anoche  Yonaguni  Moscow Mule  Callaíta  Ojitos Lindos  Me Porto Bonito  Tití Me Preguntó  un 100xto  BAILE INoLVIDABLE  DtMF – LA MuDANZA medley    Performers    Listeso String Quartet   Seating Map      \nEvent Details\n\nVenue: Temple Ohabei Shalom\nCity: Boston\nShowtimes: 9:00p\nPerformers: String Quartet – Listeso – Boston\n\nBuy Tickets  |  Get a Quote
URL:https://www.fenwayquartet.com/concert/candlelight-tribute-to-bad-bunny/
LOCATION:Temple Ohabei Shalom\, Boston\, US
END:VEVENT
BEGIN:VEVENT
DTSTART;TZID=UTC:20260416T190000
DTEND;TZID=UTC:20260416T200000
DTSTAMP:20260423T210623
CREATED:20260407T150405Z
LAST-MODIFIED:20260407T150405Z
UID:1674-1776366000-1776369600@www.fenwayquartet.com
SUMMARY:Candlelight: A Tribute to Pink Floyd
DESCRIPTION:⭐   Candlelight    concerts bring the magic of a live\, multi-sensory musical experience to awe-inspiring locations like never seen before in Boston. Get your tickets now to discover the music of Pink Floyd at Temple Ohabei Shalom under the gentle glow of candlelight.    General Info   📍 Venue: Temple Ohabei Shalom  📅 Dates and times: select your dates/times directly in the ticket selector  ⏳ Duration: 60 minutes. Doors open 45 minutes before the show. No entry once it starts.  👤 Age requirement: 8 years old or older. Anyone under the age of 16 must be accompanied by an adult  ♿ Accessibility: this venue is ADA-compliant  ❓ View the FAQs for this event  here   🪑 Seating is assigned on a first come first served basis in each zone  🕯️ If you would like to book a private concert or buy regular tickets for a large group (+30 people)\, click  here   🎻 Check out all the  Candlelight concerts  in Boston  🎁 To treat your friends and family to a Candlelight gift card\, click  here    Tentative Program    “Wish You Were Here”  “Comfortably Numb”  “Another Brick In The Wall”  “Time”  “Money”  “Breathe (In The Air)”  “On The Run”  “The Great Gig In The Sky”  “Brain Damage”  “Us And Them”  “Hey You”  “Shine On You Crazy Diamond”   Performers    Listeso String Quartet    Seating Map    \nEvent Details\n\nVenue: Temple Ohabei Shalom\nCity: Boston\nShowtimes: 7:00p\nPerformers: Listeso\n\nBuy Tickets  |  Get a Quote
URL:https://www.fenwayquartet.com/concert/candlelight-a-tribute-to-pink-floyd/
LOCATION:Temple Ohabei Shalom\, Boston\, US
END:VEVENT
BEGIN:VEVENT
DTSTART;TZID=UTC:20260417T190000
DTEND;TZID=UTC:20260417T200000
DTSTAMP:20260423T210623
CREATED:20260407T150358Z
LAST-MODIFIED:20260407T150358Z
UID:1675-1776452400-1776456000@www.fenwayquartet.com
SUMMARY:Candlelight: Tribute to Queen and The Beatles
DESCRIPTION:⭐   Candlelight    concerts bring the magic of a live\, multi-sensory musical experience to awe-inspiring locations like never seen before in Boston. Get your tickets now to discover the music of Queen and The Beatles at Simons Theatre under the gentle glow of candlelight.        🌸 To celebrate Candlelight Spring\, a limited number of sessions feature a special floral setting. All other sessions follow the standard Candlelight setup. See the dates below.   General Info   📍 Venue: Simons Theatre  📅 Dates and times: select your dates/times directly in the ticket selector  ⏳ Duration: 60 minutes. Doors open 45 minutes before the show and  close 5 minutes prior to the start. Late arrivals will not be permitted   👤 Age requirement: 8 years old or older. Anyone under the age of 16 must be accompanied by an adult  ♿ Accessibility: ADA compliant  ❓ View the FAQs for this event  here   🪑 Seating is assigned on a first come first served basis in each zone  🕯️ If you would like to book a private concert or buy regular tickets for a large group (+30 people)\, click  here   🎻 Check out all the  Candlelight concerts  in Boston  🎁 To treat your friends and family to a Candlelight gift card\, click  here   Tentative Program    Here Comes the Sun – The Beatles  Blackbird – The Beatles  Help! – The Beatles  Come Together – The Beatles  Yesterday – The Beatles  All You Need Is Love – The Beatles  Love of My Life – Queen  Another One Bites the Dust – Queen  I Want to Break Free – Queen  We Are the Champions – Queen  We Will Rock You – Queen  Radio Ga-Ga – Queen  Bohemian Rhapsody – Queen   Sessions with Candlelight Spring flower setting:    April 17      Performers     Listeso  String Quartet       Seating Map      \nEvent Details\n\nVenue: Simons Theatre\nCity: Boston\nShowtimes: 7:00p\nPerformers: String Quartet – Listeso – Boston\n\nBuy Tickets  |  Get a Quote
URL:https://www.fenwayquartet.com/concert/candlelight-tribute-to-queen-and-the-beatles/
LOCATION:Simons Theatre\, Boston\, US
END:VEVENT
BEGIN:VEVENT
DTSTART;TZID=UTC:20260425T190000
DTEND;TZID=UTC:20260425T200000
DTSTAMP:20260423T210623
CREATED:20260407T150229Z
LAST-MODIFIED:20260407T150229Z
UID:1681-1777143600-1777147200@www.fenwayquartet.com
SUMMARY:Candlelight: The Lord of the Rings
DESCRIPTION:🗡️  The Fellowship lives on through the music from The Lord of the Rings trilogy.  Celebrate the  25th anniversary of  The Lord of the Rings   like never before with  Candlelight: The Lord of the Rings  in Boston. This exclusive tribute concert\, performed by a talented string quartet\, will bring the unforgettable music from the films to life. Join us for a night that celebrates the music behind the heroic journey of The Lord of the Rings trilogy. Get your tickets today!  \n General Info\n📍 Venue: The Sanctuary – Old South Church in Boston\n📅 Dates and times: select your dates/times directly in the ticket selector\n⏳ Duration: 60 minutes. Doors open 45 minutes before the show. No entry once it starts.\n👤 Age requirement: 8 years old or older. Anyone under the age of 16 must be accompanied by an adult\n♿ Accessibility: this venue is ADA compliant\n❓ View the FAQs for this event  here\n🪑 Seating is assigned on a first come first served basis in each zone\n🕯️ If you would like to book a private concert or buy regular tickets for a large group (+30 people)\, click  here\n🎻 Check out all the  Candlelight concerts  in Boston\n🎁 To treat your friends and family to a Candlelight gift card\, click  here\n🏰 There’s no strict dress code\, but guests are encouraged to embrace the spirit of Middle-earth— Dress as your favorite character or let the magic of the films inspire your look  \n Program- Top hits from The Lord of the Rings trilogy   \nThe Lord of the Rings: The Fellowship of the Ring  \n	 Prologue: One Ring to Rule Them All\n	 Concerning Hobbits\n	 Amon Hen \n	 The Breaking of the Fellowship (feat. “In Dreams”)  \nThe Lord of the Rings: The Two Towers \n	 Foundations of Stone\n	 The Riders of Rohan\n	 Evenstar\n	 Gollum’s Song  \nThe Lord of the Rings: The Return of the King \n	 Minas Tirith (feat. Ben Del Maestro)\n	 The Ride of the Rohirrim\n	 The Black Gate Opens (feat. Sir James Galway)\n	 The Return of the King First\n	 The Grey Havens (feat. Sir James Galway)\n	 Into the West  \n Setlist and Music sheets approved by Howard Shore (Official Composer of LOTR)   \n Performers  \n	  Listeso  String Quartet  \n Seating Map  \n \n  Stream The Lord of the Rings now on HBO Max  © New Line Productions\, Inc. All rights reserved. THE LORD OF THE RINGS: THE FELLOWSHIP OF THE RING\, THE LORD OF THE RINGS: THE TWO TOWERS\, THE LORD OF THE RINGS: THE RETURN OF THE KING and the names of the characters\, items\, events and places therein are ™ of Middle-earth Enterprises\, LLC under license to New Line Productions\, Inc. \nEvent Details\n\nVenue: The Sanctuary –  Old South Church in Boston\nCity: Boston\nShowtimes: 9:00p\nPerformers: String Quartet – Listeso – Boston\n\nBuy Tickets  |  Get a Quote
URL:https://www.fenwayquartet.com/concert/candlelight-the-lord-of-the-rings/
LOCATION:The Sanctuary –  Old South Church in Boston\, Boston\, US
END:VEVENT
END:VCALENDAR