BEGIN:VCALENDAR
VERSION:2.0
PRODID:-//Fenway String Quartet • Boston Wedding Musicians - ECPv6.15.20//NONSGML v1.0//EN
CALSCALE:GREGORIAN
METHOD:PUBLISH
X-ORIGINAL-URL:https://www.fenwayquartet.com
X-WR-CALDESC:Events for Fenway String Quartet • Boston Wedding Musicians
REFRESH-INTERVAL;VALUE=DURATION:PT1H
X-Robots-Tag:noindex
X-PUBLISHED-TTL:PT1H
BEGIN:VTIMEZONE
TZID:UTC
BEGIN:STANDARD
TZOFFSETFROM:+0000
TZOFFSETTO:+0000
TZNAME:UTC
DTSTART:20250101T000000
END:STANDARD
END:VTIMEZONE
BEGIN:VEVENT
DTSTART;TZID=UTC:20260417T190000
DTEND;TZID=UTC:20260417T200000
DTSTAMP:20260423T154259
CREATED:20260407T150358Z
LAST-MODIFIED:20260407T150358Z
UID:1675-1776452400-1776456000@www.fenwayquartet.com
SUMMARY:Candlelight: Tribute to Queen and The Beatles
DESCRIPTION:⭐   Candlelight    concerts bring the magic of a live\, multi-sensory musical experience to awe-inspiring locations like never seen before in Boston. Get your tickets now to discover the music of Queen and The Beatles at Simons Theatre under the gentle glow of candlelight.        🌸 To celebrate Candlelight Spring\, a limited number of sessions feature a special floral setting. All other sessions follow the standard Candlelight setup. See the dates below.   General Info   📍 Venue: Simons Theatre  📅 Dates and times: select your dates/times directly in the ticket selector  ⏳ Duration: 60 minutes. Doors open 45 minutes before the show and  close 5 minutes prior to the start. Late arrivals will not be permitted   👤 Age requirement: 8 years old or older. Anyone under the age of 16 must be accompanied by an adult  ♿ Accessibility: ADA compliant  ❓ View the FAQs for this event  here   🪑 Seating is assigned on a first come first served basis in each zone  🕯️ If you would like to book a private concert or buy regular tickets for a large group (+30 people)\, click  here   🎻 Check out all the  Candlelight concerts  in Boston  🎁 To treat your friends and family to a Candlelight gift card\, click  here   Tentative Program    Here Comes the Sun – The Beatles  Blackbird – The Beatles  Help! – The Beatles  Come Together – The Beatles  Yesterday – The Beatles  All You Need Is Love – The Beatles  Love of My Life – Queen  Another One Bites the Dust – Queen  I Want to Break Free – Queen  We Are the Champions – Queen  We Will Rock You – Queen  Radio Ga-Ga – Queen  Bohemian Rhapsody – Queen   Sessions with Candlelight Spring flower setting:    April 17      Performers     Listeso  String Quartet       Seating Map      \nEvent Details\n\nVenue: Simons Theatre\nCity: Boston\nShowtimes: 7:00p\nPerformers: String Quartet – Listeso – Boston\n\nBuy Tickets  |  Get a Quote
URL:https://www.fenwayquartet.com/concert/candlelight-tribute-to-queen-and-the-beatles/
LOCATION:Simons Theatre\, Boston\, US
END:VEVENT
END:VCALENDAR