BEGIN:VCALENDAR
VERSION:2.0
PRODID:-//Fenway String Quartet • Boston Wedding Musicians - ECPv6.15.20//NONSGML v1.0//EN
CALSCALE:GREGORIAN
METHOD:PUBLISH
X-ORIGINAL-URL:https://www.fenwayquartet.com
X-WR-CALDESC:Events for Fenway String Quartet • Boston Wedding Musicians
REFRESH-INTERVAL;VALUE=DURATION:PT1H
X-Robots-Tag:noindex
X-PUBLISHED-TTL:PT1H
BEGIN:VTIMEZONE
TZID:UTC
BEGIN:STANDARD
TZOFFSETFROM:+0000
TZOFFSETTO:+0000
TZNAME:UTC
DTSTART:20250101T000000
END:STANDARD
END:VTIMEZONE
BEGIN:VEVENT
DTSTART;TZID=UTC:20260412T190000
DTEND;TZID=UTC:20260412T200000
DTSTAMP:20260423T160743
CREATED:20260407T150415Z
LAST-MODIFIED:20260407T150415Z
UID:1672-1776020400-1776024000@www.fenwayquartet.com
SUMMARY:Candlelight: Tribute to Ed Sheeran
DESCRIPTION:⭐   Candlelight  concerts bring the magic of a live\, multi-sensory musical experience to awe-inspiring locations like never seen before in Boston. Get your tickets now to discover the music of Ed Sheeran at The Maso Studio At the Huntington Theatre under the gentle glow of candlelight.   \n  General Info\n📍 Venue: The Maso Studio At the Huntington Theatre\n📅 Dates and times: select your dates/times directly in the ticket selector\n⏳ Duration: 60 minutes. Doors open 60 minutes before the show. No entry once it starts\n👤 Age requirement: 8 years old or older. Anyone under the age of 16 must be accompanied by an adult\n♿ Accessibility: this venue is ADA compliant\n❓ View the FAQs for this event  here\n🪑 Seating is assigned on a first come first served basis in each zone\n🕯️ If you would like to book a private concert or buy regular tickets for a large group (+30 people)\, click  here\n🎻 Check out all the  Candlelight concerts  in Boston\n🎁 To treat your friends and family to a Candlelight gift card\, click  here   \n  Tentative Program   \n	 Bad Habits\n	 Perfect\n	 Lego House\n	 Galway Girl\n	 Thinking Out Loud\n	 Happier\n	 The A Team\n	 Beautiful People (feat. Khalid)\n	 Eyes Closed\n	 Castle on the Hill\n	 Photograph\n	 Shivers\n	 Shape of You  \n Performers   \n	 String Quartet – Listeso – Boston  \n  Seating Map   \nProgram\n\nBad Habits\nPerfect\nLego House\nGalway Girl\nThinking Out Loud\nHappier\nThe A Team\nBeautiful People (feat. Khalid)\nEyes Closed\nCastle on the Hill\nPhotograph\nShivers\nShape of You\n\nEvent Details\n\nVenue: The Maso Studio At the Huntington Theatre\nCity: Boston\nShowtimes: 9:00p\nPerformers: String Quartet – Listeso – Boston\nTickets: From $49\n\nBuy Tickets  |  Get a Quote
URL:https://www.fenwayquartet.com/concert/candlelight-tribute-to-ed-sheeran/
LOCATION:The Maso Studio At the Huntington Theatre\, Boston\, US
END:VEVENT
END:VCALENDAR